Workbook

Sheet 113
A1: UBND XÃ NHƯ QUỲNH | D1: Biểu số 113/CKTC-NSNN
A3: CÂN ĐỐI NGÂN SÁCH XÃ QUÝ IV NĂM 2025
A4: (Kèm theo Thông báo số 06/TB-UBND ngày 09/01/2026 của UBND xã Như Quỳnh)
D6: Đvt: 1.000 đồng
A7: Stt | B7: Nội dung | C7: Dự toán năm 2025 | D7: Thực hiện Quý IV năm 2025 | E7: So sánh
A8: A | B8: B | C8: 1 | D8: 2 | E8: 3=2/1
A9: I | B9: TỔNG SỐ THU | C9: =+C10+C11+C12+C15 -> 633755000 | D9: =+D10+D11+D12+D15 -> 158792959 | E9: =+D9/C9*100 -> 25.055891
A10: 1 | B10: Các khoản thu xã hưởng 100% | C10: 600000 | D10: =+'114'!F11 -> 6859139 | E10: =+D10/C10*100 -> 1143.1898
A11: 2 | B11: Các khoản thu phân chia theo tỷ lệ (1) | C11: 441780000 | D11: =+'114'!F16 -> 111633701 | E11: =+D11/C11*100 -> 25.269071
A12: 3 | B12: Thu bổ sung | C12: =+C13+C14 -> 42375000 | D12: =+D13+D14 -> 40300119 | E12: =+D12/C12*100 -> 95.103526
A13: - | B13: Thu bổ sung cân đối | C13: 36775000 | D13: =+'114'!F31 -> 9497912 | E13: =+D13/C13*100 -> 25.827089
A14: - | B14: Thu bổ sung có mục tiêu | C14: 5600000 | D14: =+'114'!F32 -> 30802207 | E14: =+D14/C14*100 -> 550.03941
A15: 4 | B15: Thu chuyển nguồn | C15: 149000000 | E15: =+D15/C15*100 -> 0
A16: II | B16: TỔNG SỐ CHI | C16: =+C17+C18+C19+C20 -> 633755000 | D16: =+D17+D18+D19+D20 -> 202099785 | E16: =+D16/C16*100 -> 31.889261
A17: 1 | B17: Chi đầu tư phát triển | C17: 568000000 | D17: =+'115'!G10 -> 104359687 | E17: =+D17/C17*100 -> 18.373184
A18: 2 | B18: Chi thường xuyên | C18: 54518000 | D18: =+'115'!H10-D19 -> 93455098 | E18: =+D18/C18*100 -> 171.42063
A19: 3 | B19: Dự phòng | C19: 5637000 | D19: =+'115'!H25 -> 4285000 | E19: =+D19/C19*100 -> 76.015611
A20: 4 | B20: Chi bổ sung mục tiêu | C20: 5600000 | E20: =+D20/C20*100 -> 0
A22: Ghi chú: (1) Bao gồm 4 khoản thuế, lệ phí luật NSNN quy định cho ngân sách xã hưởng và những khoản thu ngân sách địa phương được hưởng dùng để phân chia theo tỷ lệ phần trăm (%) cho xã

Sheet 114
A1: UBND XÃ NHƯ QUỲNH | E1: Biểu số 114/CK TC-NSNN
A3: THỰC HIỆN THU NGÂN SÁCH XÃ QUÝ IV NĂM 2025
A4: =+'113'!A4:E4 -> (Kèm theo Thông báo số 06/TB-UBND ngày 09/01/2026 của UBND xã Như Quỳnh)
G6: Đvt: 1.000 đồng
A7: Stt | B7: Nội dung | C7: Dự toán năm 2025 xã giao | E7: Thực hiện Quý IV năm 2025 | G7: So sánh (%)
C8: Thu NSNN | D8: Thu NSX | E8: Thu NSNN | F8: Thu NSX | G8: Thu NSNN | H8: Thu NSX
A9: A | B9: B | C9: 1 | D9: 2 | E9: 3 | F9: 4 | G9: 5=3/1 | H9: 6=4/2
B10: TỔNG THU | C10: =+C11+C16+C27+C28+C29+C30 -> 952459000 | D10: =+D11+D16+D27+D28+D29+D30 -> 633755000 | E10: =+E11+E16+E27+E28+E29+E30 -> 1623112989 | F10: =+F11+F16+F27+F28+F29+F30 -> 158792959 | G10: =+E10/C10*100 -> 170.4129 | H10: =+F10/D10*100 -> 25.055891
A11: I | B11: Các khoản thu 100% | C11: =SUM(C12:C15) -> 600000 | D11: =SUM(D12:D15) -> 600000 | E11: =SUM(E12:E15) -> 12576905 | F11: =SUM(F12:F15) -> 6859139 | G11: =+E11/C11*100 -> 2096.1508 | H11: =+F11/D11*100 -> 1143.1898
A12: 1 | B12: Phí, lệ phí | C12: 270000 | D12: 270000 | E12: 744472 | F12: 191902 | G12: =+E12/C12*100 -> 275.73037 | H12: =+F12/D12*100 -> 71.074815
A13: =+A12+1 -> 2 | B13: Thu từ quỹ đất công ích và thu hoa lợi công sản khác | C13: 85000 | D13: 85000 | G13: =+E13/C13*100 -> 0 | H13: =+F13/D13*100 -> 0
A14: 3 | B14: Đóng góp tự nguyện của các tổ chức, cá nhân
A15: =+A14+1 -> 4 | B15: Thu khác | C15: 245000 | D15: 245000 | E15: 11832433 | F15: 6667237 | G15: =+E15/C15*100 -> 4829.5645 | H15: =+F15/D15*100 -> 2721.3212
A16: II | B16: Các khoản thu phân chia theo tỷ lệ phần trăm (%) | C16: =+C17+C20 -> 760484000 | D16: =+D17+D20 -> 441780000 | E16: =+E17+E20 -> 1570235965 | F16: =+F17+F20 -> 111633701 | G16: =+E16/C16*100 -> 206.4785 | H16: =+F16/D16*100 -> 25.269071
A17: 1 | B17: Các khoản thu phân chia | C17: =SUM(C18:C19) -> 6970000 | D17: =SUM(D18:D19) -> 6380000 | E17: =SUM(E18:E19) -> 19737802 | F17: =SUM(F18:F19) -> 6205273 | G17: =+E17/C17*100 -> 283.18224 | H17: =+F17/D17*100 -> 97.261332
A18: 1.1 | B18: Thuế sử dụng đất phi nông nghiệp | C18: 5790000 | D18: 5790000 | E18: 4624446 | F18: 4624446 | G18: =+E18/C18*100 -> 79.869534 | H18: =+F18/D18*100 -> 79.869534
A19: 1.2 | B19: Lệ phí trước bạ nhà, đất | C19: 1180000 | D19: 590000 | E19: 15113356 | F19: 1580827 | G19: =+E19/C19*100 -> 1280.7929 | H19: =+F19/D19*100 -> 267.93678
A20: 2 | B20: Các khoản thu phân chia khác do cấp tỉnh quy định | C20: =SUM(C21:C25) -> 753514000 | D20: =SUM(D21:D25) -> 435400000 | E20: =SUM(E21:E26) -> 1550498163 | F20: =SUM(F21:F26) -> 105428428 | G20: =+E20/C20*100 -> 205.76899 | H20: =+F20/D20*100 -> 24.214154
A21: 2.1 | B21: Thu từ khu vực kinh tế ngoài quốc doanh (4) | C21: 10000000 | D21: 2000000 | E21: =5428372+256862603+479855691 -> 742146666 | F21: 3811609 | G21: =+E21/C21*100 -> 7421.4667 | H21: =+F21/D21*100 -> 190.58045
A22: 2.2 | B22: Thuế thu nhập cá nhân | C22: 10228000 | D22: 4600000 | E22: 77637206 | F22: 8449114 | G22: =+E22/C22*100 -> 759.06537 | H22: =+F22/D22*100 -> 183.67639
A23: 2.3 | B23: Thuế bảo vệ môi trường | E23: 226119
A24: 2.4 | B24: Tiền cho thuê đất, thuê mặt nước | C24: 49000000 | D24: 9800000 | E24: 49296891 | F24: 9859378 | G24: =+E24/C24*100 -> 100.6059 | H24: =+F24/D24*100 -> 100.6059
A25: 2.5 | B25: Thu tiền sử dụng đất | C25: 684286000 | D25: 419000000 | E25: 678323611 | F25: 83308327 | G25: =+E25/C25*100 -> 99.12867 | H25: =+F25/D25*100 -> 19.882656
A26: 2.6 | B26: Thu tiền cấp quyền khai thác khoáng sản, vùng trời, vùng biển | E26: 2867670
A27: III | B27: Thu viện trợ không hoàn lại trực tiếp cho xã (nếu có)
A28: IV | B28: Thu chuyển nguồn | C28: 149000000 | D28: 149000000 | G28: =+E28/C28*100 -> 0 | H28: =+F28/D28*100 -> 0
A29: V | B29: Thu kết dư ngân sách năm trước
A30: VI | B30: Thu bổ sung từ ngân sách cấp trên | C30: =SUM(C31:C32) -> 42375000 | D30: =SUM(D31:D32) -> 42375000 | E30: =SUM(E31:E32) -> 40300119 | F30: =SUM(F31:F32) -> 40300119 | G30: =+E30/C30*100 -> 95.103526 | H30: =+F30/D30*100 -> 95.103526
A31: 1 | B31: Thu bổ sung cân đối | C31: 36775000 | D31: 36775000 | E31: 9497912 | F31: 9497912 | G31: =+E31/C31*100 -> 25.827089 | H31: =+F31/D31*100 -> 25.827089
A32: 2 | B32: Thu bổ sung có mục tiêu | C32: 5600000 | D32: 5600000 | E32: 30802207 | F32: 30802207 | G32: =+E32/C32*100 -> 550.03941 | H32: =+F32/D32*100 -> 550.03941

Sheet 115
A1: UBND XÃ NHƯ QUỲNH | H1: Biểu số 115/CK TC-NSNN
A3: THỰC HIỆN CHI NGÂN SÁCH XÃ QUÝ IV NĂM 2025
A4: =+'113'!A4:E4 -> (Kèm theo Thông báo số 06/TB-UBND ngày 09/01/2026 của UBND xã Như Quỳnh)
I6: Đơn vị: 1000 đồng
A7: Stt | B7: Nội dung | C7: Dự toán năm 2025 | F7: THỰC HIỆN QUÝ IV | I7: SO SÁNH (%)
C8: Tổng số | D8: XDCB | E8: TX | F8: Tổng số | G8: XDCB | H8: TX | I8: Tổng số | J8: XDCB | K8: TX
A9: A | B9: B | C9: 1 | D9: 2 | E9: 3 | F9: 4 | G9: 5 | H9: 6 | I9: 7=4/1 | J9: 8=5/2 | K9: 9=6/3
B10: TỔNG CHI | C10: =+D10+E10 -> 628155000 | D10: 568000000 | E10: =SUM(E12:E25) -> 60155000 | F10: =SUM(F12:F25) -> 202099785 | G10: =SUM(G12:G25) -> 104359687 | H10: =SUM(H12:H25) -> 97740098 | I10: =+F10/C10*100 -> 32.173554 | J10: =+G10/D10*100 -> 18.373184 | K10: =+H10/E10*100 -> 162.48042
B11: Trong đó
A12: 1 | B12: Chi quốc phòng | C12: =SUM(D12:E12) -> 2114501 | E12: 2114501 | F12: =SUM(G12:H12) -> 427284 | H12: 427284 | I12: =+F12/C12*100 -> 20.207321 | K12: =+H12/E12*100 -> 20.207321
A13: =+A12+1 -> 2 | B13: Chi an ninh | C13: =SUM(D13:E13) -> 2910948 | E13: 2910948 | F13: =SUM(G13:H13) -> 225000 | H13: 225000 | I13: =+F13/C13*100 -> 7.7294407 | K13: =+H13/E13*100 -> 7.7294407
A14: =+A13+1 -> 3 | B14: Chi giáo dục | C14: =SUM(D14:E14) -> 0 | F14: =SUM(G14:H14) -> 73369062 | G14: 21617475 | H14: 51751587
A15: =+A14+1 -> 4 | B15: Chi ứng dụng, chuyển giao công nghệ | C15: =SUM(D15:E15) -> 0 | F15: =SUM(G15:H15) -> 0
A16: =+A15+1 -> 5 | B16: Chi y tế | C16: =SUM(D16:E16) -> 663163 | E16: 663163 | F16: =SUM(G16:H16) -> 10943603 | H16: 10943603 | I16: =+F16/C16*100 -> 1650.2131 | K16: =+H16/E16*100 -> 1650.2131
A17: =+A16+1 -> 6 | B17: Chi văn hóa, thông tin | C17: =SUM(D17:E17) -> 983597 | E17: 983597 | F17: =SUM(G17:H17) -> 8600336 | G17: 7434111 | H17: 1166225 | I17: =+F17/C17*100 -> 874.37599 | K17: =+H17/E17*100 -> 118.56736
A18: =+A17+1 -> 7 | B18: Chi phát thanh, truyền thanh | C18: =SUM(D18:E18) -> 0 | F18: =SUM(G18:H18) -> 50000 | H18: 50000
A19: =+A18+1 -> 8 | B19: Chi thể dục thể thao | C19: =SUM(D19:E19) -> 0 | F19: =SUM(G19:H19) -> 50000 | H19: 50000
A20: =+A19+1 -> 9 | B20: Chi bảo vệ môi trường | C20: =SUM(D20:E20) -> 233000 | E20: 233000 | F20: =SUM(G20:H20) -> 3452989 | H20: 3452989 | I20: =+F20/C20*100 -> 1481.9695 | K20: =+H20/E20*100 -> 1481.9695
A21: =+A20+1 -> 10 | B21: Chi các hoạt động kinh tế | C21: =SUM(D21:E21) -> 914663 | E21: 914663 | F21: =SUM(G21:H21) -> 54820931 | G21: 53379042 | H21: 1441889 | I21: =+F21/C21*100 -> 5993.566 | K21: =+H21/E21*100 -> 157.64156
A22: =+A21+1 -> 11 | B22: Chi hoạt động của cơ quan quản lý Nhà nước, Đảng, đoàn thể | C22: =SUM(D22:E22) -> 44257066 | E22: =43725400+100000+431666 -> 44257066 | F22: =SUM(G22:H22) -> 37021713 | G22: 21929059 | H22: =19602404-224750-4285000 -> 15092654 | I22: =+F22/C22*100 -> 83.65153 | K22: =+H22/E22*100 -> 34.102247
A23: =+A22+1 -> 12 | B23: Chi đảm bảo xã hội | C23: =SUM(D23:E23) -> 2201062 | E23: 2201062 | F23: =SUM(G23:H23) -> 8629117 | H23: 8629117 | I23: =+F23/C23*100 -> 392.04334 | K23: =+H23/E23*100 -> 392.04334
A24: =+A23+1 -> 13 | B24: Chi khác | C24: =SUM(D24:E24) -> 240000 | E24: 240000 | F24: =SUM(G24:H24) -> 224750 | H24: 224750 | I24: =+F24/C24*100 -> 93.645833 | K24: =+H24/E24*100 -> 93.645833
A25: =+A24+1 -> 14 | B25: Dự phòng ngân sách | C25: =SUM(D25:E25) -> 5637000 | E25: 5637000 | F25: =SUM(G25:H25) -> 4285000 | H25: 4285000 | I25: =+F25/C25*100 -> 76.015611 | K25: =+H25/E25*100 -> 76.015611
